BEGIN:VCALENDAR
VERSION:2.0
PRODID:-//wp-events-plugin.com//7.2.3.1//EN
TZID:America/Denver
X-WR-TIMEZONE:America/Denver
BEGIN:VEVENT
UID:54@thedivorceddadvocate.com
DTSTART;TZID=America/Denver:20260613T090000
DTEND;TZID=America/Denver:20260613T110000
DTSTAMP:20260420T163242Z
URL:https://thedivorceddadvocate.com/events/tactical-group-briefing-3/
SUMMARY:Tactical Group Briefing
DESCRIPTION:Are you a father navigating a high-stakes divorce where the gro
 und is shifting beneath your feet? Being unprepared is how great fathers 
 become weekend visitors. Join our Tactical Group Briefing—a confidenti
 al\, high-authority space where fathers leverage collective intelligence
  to bridge the Decision Gap and protect their parental role.\nWhat to E
 xpect:\n\n\n 	Exposure Identification: A secure environment to identify "
 quiet loss" zones and high-risk precedents in your current co-parenting or
  legal dynamic.\n 	Decision Gap Management: Guided strategy briefings foc
 using on the 95% of life that happens outside the courtroom—including co
 mmunication scripts and emotional restraint.\n 	Operational Intelligence:
  Access proven tools and the shared intelligence of a global alliance of 
 fathers who have successfully navigated the challenges you are currently f
 acing.\n 	Pattern Calibration: Practical guidance on establishing the beh
 avioral patterns that courts interpret as stability\, fitness\, and patern
 al authority.\n 	Strategic Alliance: Build a network of trusted allies co
 mmitted to role preservation and mission-critical preparation.\n\nEvent De
 tails:\n\n\n 	Who: Fathers in the Pre-Divorce\, During Divorce\, or Po
 st-Divorce operational phases.\n 	When: Fourth Saturday of the month.\n 
 	Where: Secure Online Briefing (Zoom).\n 	Format: Operational Small-Grou
 p Briefing (Cameras on for accountability). Brief situational intakes\, id
 entification of current exposure points\, and collective problem-solving.\
 n 	Cost: FREE\n\nWhy Attend? In the family court system\, intelligence 
 without execution is a liability. Whether you are battling co-parenting "d
 rift" or the quiet loss of your influence\, you cannot afford to be unprep
 ared. Stop the drift\, identify your exposure\, and leave each briefing wi
 th a Strategic Defense Blueprint to secure your role as a permanent\, in
 volved father.\nTake the definitive step toward role preservation. Join th
 e alliance and ensure your mistakes do not become your permanent reality.\
 n“We leverage collective intelligence to protect what matters most. Stan
 d prepared\, stay restrained.”
ATTACH;FMTTYPE=image/jpeg:https://thedivorceddadvocate.com/wp-content/uplo
 ads/2026/01/Gemini_Generated_Image_9gni2j9gni2j9gni-1.png
LOCATION:https://us02web.zoom.us/j/85157604749
END:VEVENT
BEGIN:VTIMEZONE
TZID:America/Denver
X-LIC-LOCATION:America/Denver
BEGIN:DAYLIGHT
DTSTART:20260308T030000
TZOFFSETFROM:-0700
TZOFFSETTO:-0600
TZNAME:MDT
END:DAYLIGHT
END:VTIMEZONE
END:VCALENDAR